BEGIN:VCALENDAR
VERSION:2.0
PRODID:-//Plone.org//NONSGML plone.app.event//EN
X-WR-TIMEZONE:Europe/Rome
BEGIN:VEVENT
SUMMARY:21 aprile  Deep-tech Showcase 2° Edizione
DTSTART;TZID=Europe/Rome;VALUE=DATE-TIME:20260421T183000
DTEND;TZID=Europe/Rome;VALUE=DATE-TIME:20260421T210000
DTSTAMP;VALUE=DATE-TIME:20260421T041017Z
UID:141a5c4b139040b2b03d810597122d8a@www.ge.camcom.gov.it
CATEGORIES:Eventi,Eventi HP,Eventi - innova
CREATED;VALUE=DATE-TIME:20260403T115247Z
DESCRIPTION:Humans keep purpose
LAST-MODIFIED;VALUE=DATE-TIME:20260403T120543Z
LOCATION:Genova\, Palazzo della Borsa
URL:https://www.ge.camcom.gov.it/it/elementi-homepage/events/21-aprile-hum
 ans-keep-purpose-deep-tech-showcase-2deg-edizione
END:VEVENT
BEGIN:VTIMEZONE
TZID:Europe/Rome
X-LIC-LOCATION:Europe/Rome
BEGIN:DAYLIGHT
DTSTART;VALUE=DATE-TIME:20260329T030000
TZNAME:CEST
TZOFFSETFROM:+0100
TZOFFSETTO:+0200
END:DAYLIGHT
END:VTIMEZONE
END:VCALENDAR
