BEGIN:VCALENDAR
VERSION:2.0
PRODID:-//Plone.org//NONSGML plone.app.event//EN
X-WR-TIMEZONE:Europe/Rome
BEGIN:VEVENT
SUMMARY:04 giugno - Corso Cybersecurity dalla consapevolezza all'approccio
  specialistico: 7° lezione
DTSTART;TZID=Europe/Rome;VALUE=DATE-TIME:20240604T090000
DTEND;TZID=Europe/Rome;VALUE=DATE-TIME:20240604T120000
DTSTAMP;VALUE=DATE-TIME:20260420T114122Z
UID:4ff281ad2b2f4407a2f936b1adaf05b1@www.ge.camcom.gov.it
ATTENDEE;CN="Ing. Georgia Cesarone";ROLE=REQ-PARTICIPANT:Ing. Georgia Cesa
 rone
CATEGORIES:Eventi calendario HP,Eventi pid,Eventi HP,Notizie PID,Eventi - 
 innova
CONTACT:Punto Impresa Digitale\, https://docs.google.com/forms/d/e/1FAIpQL
 SfsOjqH-eA4Ix-xKD55gOl6El6WFsKXArj17Avveyd22bzHVQ/viewform
CREATED;VALUE=DATE-TIME:20210118T105859Z
DESCRIPTION:04 giugno 2024 la 7° lezione in presenza del "Corso Cybersecu
 rity dalla consapevolezza all'approccio specialistico"\nPID Cyber Check a 
 cura di Ing. Georgia Cesarone
LAST-MODIFIED;VALUE=DATE-TIME:20240531T124251Z
LOCATION:Online
URL:https://www.ge.camcom.gov.it/it/elementi-homepage/events/04-giugno-cor
 so-cybersecurity-dalla-consapevolezza-allapproccio-specialistico-7-lezione
END:VEVENT
BEGIN:VTIMEZONE
TZID:Europe/Rome
X-LIC-LOCATION:Europe/Rome
BEGIN:DAYLIGHT
DTSTART;VALUE=DATE-TIME:20240331T030000
TZNAME:CEST
TZOFFSETFROM:+0100
TZOFFSETTO:+0200
END:DAYLIGHT
END:VTIMEZONE
END:VCALENDAR
