BEGIN:VCALENDAR
VERSION:2.0
PRODID:-//Plone.org//NONSGML plone.app.event//EN
X-WR-TIMEZONE:Europe/Rome
BEGIN:VEVENT
SUMMARY:05 maggio - AI per Crescere: strumenti e applicazioni pratiche per
  migliorare i processi nelle imprese - 1° lezione
DTSTART;TZID=Europe/Rome;VALUE=DATE-TIME:20260505T090000
DTEND;TZID=Europe/Rome;VALUE=DATE-TIME:20260505T110000
DTSTAMP;VALUE=DATE-TIME:20260421T143042Z
UID:197b5c315136421591377216155d87a9@www.ge.camcom.gov.it
ATTENDEE;CN="Start 4.0";ROLE=REQ-PARTICIPANT:Start 4.0
CATEGORIES:Eventi calendario HP,Eventi pid,Eventi HP,Notizie PID,Eventi - 
 innova
CONTACT:Punto Impresa Digitale\, https://docs.google.com/forms/d/e/1FAIpQL
 SfAEXbmAIj1Evdh7LobNvpvDW2pj8HjxGF9u3lO5ol0scOkTA/viewform?usp=dialog
CREATED;VALUE=DATE-TIME:20210118T105859Z
DESCRIPTION:1° lezione in presenza del Corso "AI per Crescere: strumenti 
 e applicazioni pratiche per migliorare i processi nelle imprese"\nIntroduz
 ione all’AI per le MPMI
LAST-MODIFIED;VALUE=DATE-TIME:20260421T092443Z
LOCATION:Online
URL:https://www.ge.camcom.gov.it/it/elementi-homepage/events/05-maggio-ai-
 per-crescere-strumenti-e-applicazioni-pratiche-per-migliorare-i-processi-n
 elle-imprese-1-lezione
END:VEVENT
BEGIN:VTIMEZONE
TZID:Europe/Rome
X-LIC-LOCATION:Europe/Rome
BEGIN:DAYLIGHT
DTSTART;VALUE=DATE-TIME:20260329T030000
TZNAME:CEST
TZOFFSETFROM:+0100
TZOFFSETTO:+0200
END:DAYLIGHT
END:VTIMEZONE
END:VCALENDAR
