BEGIN:VCALENDAR
VERSION:2.0
PRODID:-//Plone.org//NONSGML plone.app.event//EN
X-WR-TIMEZONE:Europe/Rome
BEGIN:VEVENT
SUMMARY:10 ottobre 2023 dalle ore 10:30 Webinar PNRR Misura 1.3.1. PDND pe
 r i Comuni con SUAP camerale
DTSTART;TZID=Europe/Rome;VALUE=DATE-TIME:20231010T103000
DTEND;TZID=Europe/Rome;VALUE=DATE-TIME:20231010T113000
DTSTAMP;VALUE=DATE-TIME:20260422T135347Z
UID:a8068b6210994f01a5fe8af3de3e8351@www.ge.camcom.gov.it
CATEGORIES:Eventi,Eventi HP,Eventi RI
CREATED;VALUE=DATE-TIME:20231002T140445Z
LAST-MODIFIED;VALUE=DATE-TIME:20231010T143836Z
LOCATION:Webinar
URL:https://www.ge.camcom.gov.it/it/elementi-homepage/events/10-ottobre-20
 23-dalle-ore-10-30-webinar-pnrr-misura-1-3-1-pdnd-per-i-comuni-con-suap-ca
 merale
END:VEVENT
BEGIN:VTIMEZONE
TZID:Europe/Rome
X-LIC-LOCATION:Europe/Rome
BEGIN:DAYLIGHT
DTSTART;VALUE=DATE-TIME:20230326T030000
TZNAME:CEST
TZOFFSETFROM:+0100
TZOFFSETTO:+0200
END:DAYLIGHT
END:VTIMEZONE
END:VCALENDAR
