BEGIN:VCALENDAR
VERSION:2.0
PRODID:-//Plone.org//NONSGML plone.app.event//EN
X-WR-TIMEZONE:Europe/Rome
BEGIN:VEVENT
SUMMARY:12 marzo 2026 - Progetto LigurIA: l'IA nell'industria\, in Liguria
  e in Italia
DTSTART;TZID=Europe/Rome;VALUE=DATE-TIME:20260312T093000
DTEND;TZID=Europe/Rome;VALUE=DATE-TIME:20260312T170000
DTSTAMP;VALUE=DATE-TIME:20260420T080324Z
UID:bf39149fa51d40c6be855f74c6d8ae17@www.ge.camcom.gov.it
CATEGORIES:Eventi,Eventi - innova,Eventi HP
CONTACT:Lorenzo Costa - Digital Innovation Hub Liguria
CREATED;VALUE=DATE-TIME:20260310T082808Z
DESCRIPTION:Il Digital Innovation Hub Liguria e il Cluster Fabbrica Intell
 igente presentano il bilancio del primo anno del Progetto LigurIA e le nuo
 ve strategie 2026 per l'adozione dell'intelligenza artificiale nel sistema
  manifatturiero.
LAST-MODIFIED;VALUE=DATE-TIME:20260310T091001Z
LOCATION:Palazzo della Borsa di Genova
URL:https://www.ge.camcom.gov.it/it/elementi-homepage/events/12-marzo-2026
 -progetto-liguria-lia-nellindustria-in-liguria-e-in-italia
END:VEVENT
BEGIN:VTIMEZONE
TZID:Europe/Rome
X-LIC-LOCATION:Europe/Rome
BEGIN:STANDARD
DTSTART;VALUE=DATE-TIME:20251026T020000
TZNAME:CET
TZOFFSETFROM:+0200
TZOFFSETTO:+0100
END:STANDARD
END:VTIMEZONE
END:VCALENDAR
