BEGIN:VCALENDAR
VERSION:2.0
PRODID:-//Plone.org//NONSGML plone.app.event//EN
X-WR-TIMEZONE:Europe/Rome
BEGIN:VEVENT
SUMMARY:13 Giugno 10.30-12.30: Eccellenze in Digitale "Social Media Market
 ing" per il Terzo Settore
DTSTART;TZID=Europe/Rome;VALUE=DATE-TIME:20240613T103000
DTEND;TZID=Europe/Rome;VALUE=DATE-TIME:20240613T123000
DTSTAMP;VALUE=DATE-TIME:20260421T042433Z
UID:f3b698b824d24d849ec8ba89eb6388d0@www.ge.camcom.gov.it
CATEGORIES:Eventi,Eventi - innova,Eventi pid,Eventi HP,Notizie slider HP,E
 venti Digital Marketing 2023,#StoriediPID incontra Eccellenze in Digitale 
 2023
CONTACT:Punto Impresa Digitale\, https://docs.google.com/forms/d/e/1FAIpQL
 SdOknUe16ZWKvNvLDW_OkzalGcB-J1451fo8rfiDQcFL1dwOQ/viewform
CREATED;VALUE=DATE-TIME:20230317T141508Z
DESCRIPTION:Eccellenze in Digitale: Focus Terzo Settore \n13 Giugno 2024 d
 alle 10.30 alle 12.30\nSocialMedia Marketing
LAST-MODIFIED;VALUE=DATE-TIME:20240603T085329Z
LOCATION:Online
URL:https://www.ge.camcom.gov.it/it/elementi-homepage/events/13-giugno-10-
 30-12-30-eccellenze-in-digitale-social-media-marketing-per-il-terzo-settor
 e
END:VEVENT
BEGIN:VTIMEZONE
TZID:Europe/Rome
X-LIC-LOCATION:Europe/Rome
BEGIN:DAYLIGHT
DTSTART;VALUE=DATE-TIME:20240331T030000
TZNAME:CEST
TZOFFSETFROM:+0100
TZOFFSETTO:+0200
END:DAYLIGHT
END:VTIMEZONE
END:VCALENDAR
