BEGIN:VCALENDAR
VERSION:2.0
PRODID:-//Plone.org//NONSGML plone.app.event//EN
X-WR-TIMEZONE:Europe/Rome
BEGIN:VEVENT
SUMMARY:13 giugno - Corso Cybersecurity dalla consapevolezza all'approccio
  specialistico: 10° lezione
DTSTART;TZID=Europe/Rome;VALUE=DATE-TIME:20240613T090000
DTEND;TZID=Europe/Rome;VALUE=DATE-TIME:20240613T110000
DTSTAMP;VALUE=DATE-TIME:20260420T000036Z
UID:bdcf69d06b1b4b2293c6e0387744a065@www.ge.camcom.gov.it
ATTENDEE;CN="Ing. Fabio Guasconi";ROLE=REQ-PARTICIPANT:Ing. Fabio Guasconi
CATEGORIES:Eventi calendario HP,Eventi pid,Eventi HP,Notizie PID,Eventi - 
 innova
CONTACT:Punto Impresa Digitale\, https://docs.google.com/forms/d/e/1FAIpQL
 SfsOjqH-eA4Ix-xKD55gOl6El6WFsKXArj17Avveyd22bzHVQ/viewform
CREATED;VALUE=DATE-TIME:20210118T105859Z
DESCRIPTION:13 giugno 2024 - 10° lezione in presenza del "Corso Cybersecu
 rity dalla consapevolezza all'approccio specialistico"\nCompliance (I part
 e) a cura di Ing. Fabio Guasconi
LAST-MODIFIED;VALUE=DATE-TIME:20240607T092253Z
LOCATION:Online
URL:https://www.ge.camcom.gov.it/it/elementi-homepage/events/13-giugno-cor
 so-cybersecurity-dalla-consapevolezza-allapproccio-specialistico-10-lezion
 e
END:VEVENT
BEGIN:VTIMEZONE
TZID:Europe/Rome
X-LIC-LOCATION:Europe/Rome
BEGIN:DAYLIGHT
DTSTART;VALUE=DATE-TIME:20240331T030000
TZNAME:CEST
TZOFFSETFROM:+0100
TZOFFSETTO:+0200
END:DAYLIGHT
END:VTIMEZONE
END:VCALENDAR
