BEGIN:VCALENDAR
VERSION:2.0
PRODID:-//Plone.org//NONSGML plone.app.event//EN
X-WR-TIMEZONE:Europe/Rome
BEGIN:VEVENT
SUMMARY:13 novembre - Corso Transizione energetica per le PMI: istruzioni 
 per l'uso: 1° Modulo
DTSTART;TZID=Europe/Rome;VALUE=DATE-TIME:20231121T090000
DTEND;TZID=Europe/Rome;VALUE=DATE-TIME:20231121T113000
DTSTAMP;VALUE=DATE-TIME:20260423T220148Z
UID:e2a4d6f45bec4c2e8616bbcae40f8754@www.ge.camcom.gov.it
ATTENDEE;CN="Dott.ssa Michela Fossa ";ROLE=REQ-PARTICIPANT:Dott.ssa Michel
 a Fossa 
ATTENDEE;CN="Ing. Riccardo Cavo";ROLE=REQ-PARTICIPANT:Ing. Riccardo Cavo
ATTENDEE;CN="Ing. Walter Geloso";ROLE=REQ-PARTICIPANT:Ing. Walter Geloso
CATEGORIES:Eventi calendario HP,Eventi pid,Eventi HP,Notizie PID,Eventi - 
 innova
CONTACT:Punto Impresa Digitale\, https://docs.google.com/forms/d/e/1FAIpQL
 SdQetxIcD7bSsa_28sHBNYxv87CNmOOmjuFbLmqGIBHjllxPg/viewform
CREATED;VALUE=DATE-TIME:20210118T105859Z
DESCRIPTION:Martedì 13 novembre 2023 - Corso Transizione energetica per l
 e PMI: istruzioni per l'uso - 1° Modulo
LAST-MODIFIED;VALUE=DATE-TIME:20231122T075924Z
LOCATION:Online
URL:https://www.ge.camcom.gov.it/it/elementi-homepage/events/13-novembre-c
 orso-transizione-energetica-per-le-pmi-istruzioni-per-luso-1-modulo
END:VEVENT
BEGIN:VTIMEZONE
TZID:Europe/Rome
X-LIC-LOCATION:Europe/Rome
BEGIN:STANDARD
DTSTART;VALUE=DATE-TIME:20231029T020000
TZNAME:CET
TZOFFSETFROM:+0200
TZOFFSETTO:+0100
END:STANDARD
END:VTIMEZONE
END:VCALENDAR
