BEGIN:VCALENDAR
VERSION:2.0
PRODID:-//Plone.org//NONSGML plone.app.event//EN
X-WR-TIMEZONE:Europe/Rome
BEGIN:VEVENT
SUMMARY:14 aprile Dall’artigianato all’industria del Made in Italy: le
  professioni “hands” in Liguria
DTSTART;TZID=Europe/Rome;VALUE=DATE-TIME:20250414T180000
DTSTAMP;VALUE=DATE-TIME:20260420T214654Z
UID:19a761be35364c238bf8973c0f9cbffe@www.ge.camcom.gov.it
CATEGORIES:Eventi,Eventi HP,Notizie statistica,Notizie - promuovi,Notizie 
 lavoro e formazione
CREATED;VALUE=DATE-TIME:20250409T102716Z
DESCRIPTION:Evento realizzato in collaborazione con Camera di Commercio di
  Genova e Camera di Commercio Riviere di Liguria.
LAST-MODIFIED;VALUE=DATE-TIME:20250409T135228Z
LOCATION:Webinar
URL:https://www.ge.camcom.gov.it/it/elementi-homepage/events/14-aprile-dal
 l2019artigianato-all2019industria-del-made-in-italy-le-professioni-201chan
 ds201d-in-liguria
END:VEVENT
BEGIN:VTIMEZONE
TZID:Europe/Rome
X-LIC-LOCATION:Europe/Rome
BEGIN:DAYLIGHT
DTSTART;VALUE=DATE-TIME:20250330T030000
TZNAME:CEST
TZOFFSETFROM:+0100
TZOFFSETTO:+0200
END:DAYLIGHT
END:VTIMEZONE
END:VCALENDAR
