BEGIN:VCALENDAR
VERSION:2.0
PRODID:-//Plone.org//NONSGML plone.app.event//EN
X-WR-TIMEZONE:Europe/Rome
BEGIN:VEVENT
SUMMARY:14 novembre 2024 - Corso Restart with Digital - 9° Lezione
DTSTART;TZID=Europe/Rome;VALUE=DATE-TIME:20241114T090000
DTEND;TZID=Europe/Rome;VALUE=DATE-TIME:20241114T110000
DTSTAMP;VALUE=DATE-TIME:20260420T062530Z
UID:476c9f2a298b49f3a290f44f070dd818@www.ge.camcom.gov.it
ATTENDEE;CN="Diego Tissicini - BF Partners";ROLE=REQ-PARTICIPANT:Diego Tis
 sicini - BF Partners
CATEGORIES:Eventi - innova,Eventi calendario HP,Eventi pid,Eventi HP
CONTACT:Punto Impresa Digitale
CREATED;VALUE=DATE-TIME:20241120T103249Z
DESCRIPTION:Corso Corso Restart with Digital 3° Edizione\nModulo 2: "Intr
 oduzione ai dati"\nLezione 9: "AI: applicazioni concrete per contabilità\
 , fatture e dati"
LAST-MODIFIED;VALUE=DATE-TIME:20241128T093638Z
LOCATION:Online
URL:https://www.ge.camcom.gov.it/it/elementi-homepage/events/14-novembre-2
 024-corso-restart-with-digital-lezione-9
END:VEVENT
BEGIN:VTIMEZONE
TZID:Europe/Rome
X-LIC-LOCATION:Europe/Rome
BEGIN:STANDARD
DTSTART;VALUE=DATE-TIME:20241027T020000
TZNAME:CET
TZOFFSETFROM:+0200
TZOFFSETTO:+0100
END:STANDARD
END:VTIMEZONE
END:VCALENDAR
