BEGIN:VCALENDAR
VERSION:2.0
PRODID:-//Plone.org//NONSGML plone.app.event//EN
X-WR-TIMEZONE:Europe/Rome
BEGIN:VEVENT
SUMMARY:14 novembre Come migliorare il match tra domanda ed offerta di lav
 oro nell’area transfrontaliera ai Magazzi del Cotone
DTSTART;TZID=Europe/Rome;VALUE=DATE-TIME:20241114T150000
DTEND;TZID=Europe/Rome;VALUE=DATE-TIME:20241114T160000
DTSTAMP;VALUE=DATE-TIME:20260423T043825Z
UID:49bf044c2d6449e797f8ad478d4080b0@www.ge.camcom.gov.it
CATEGORIES:Eventi,Eventi HP
CREATED;VALUE=DATE-TIME:20241107T090535Z
DESCRIPTION:Dal 13 al 15 Novembre torna ai Magazzini del Cotone di Genova 
 il Festival Orientamenti\, il grande appuntamento nazionale annuale sull
 ’orientamento\, la formazione e il lavoro
LAST-MODIFIED;VALUE=DATE-TIME:20241107T091040Z
LOCATION:Sala: Aliseo - Magazzini del Cotone
URL:https://www.ge.camcom.gov.it/it/elementi-homepage/events/14-novembre-c
 ome-migliorare-il-match-tra-domanda-ed-offerta-di-lavoro-nell2019area-tran
 sfrontaliera-ai-magazzi-del-cotone
END:VEVENT
BEGIN:VTIMEZONE
TZID:Europe/Rome
X-LIC-LOCATION:Europe/Rome
BEGIN:STANDARD
DTSTART;VALUE=DATE-TIME:20241027T020000
TZNAME:CET
TZOFFSETFROM:+0200
TZOFFSETTO:+0100
END:STANDARD
END:VTIMEZONE
END:VCALENDAR
