BEGIN:VCALENDAR
VERSION:2.0
PRODID:-//Plone.org//NONSGML plone.app.event//EN
X-WR-TIMEZONE:Europe/Rome
BEGIN:VEVENT
SUMMARY:16 aprile 2024 Evento settore navale e incontri B2B tra le aziende
  italiane e tedesche
DTSTART;TZID=Europe/Rome;VALUE=DATE-TIME:20240416T093000
DTSTAMP;VALUE=DATE-TIME:20260421T160029Z
UID:decc93152c2449c38120a4a977236ff2@www.ge.camcom.gov.it
CATEGORIES:Evento,Eventi HP
CREATED;VALUE=DATE-TIME:20240408T124949Z
DESCRIPTION:ITKAM - Camera di Commercio Italiana per la Germania\, in coll
 aborazione con la Camera di Commercio di Genova\, realizza il 16 aprile\,
  presso il Palazzo della Borsa Valori di Genova\,  per conto del Ministero
  Federale tedesco per  l’Economia e la Protezione del Clima (BMWK)\, un 
 incoming in Italia per l’internazionalizzazione delle opportunità di bu
 siness nel settore nautico.
LAST-MODIFIED;VALUE=DATE-TIME:20240409T122427Z
LOCATION:Genova\, Palazzo della Borsa
URL:https://www.ge.camcom.gov.it/it/elementi-homepage/events/16-aprile-202
 4-evento-settore-navale
END:VEVENT
BEGIN:VTIMEZONE
TZID:Europe/Rome
X-LIC-LOCATION:Europe/Rome
BEGIN:DAYLIGHT
DTSTART;VALUE=DATE-TIME:20240331T030000
TZNAME:CEST
TZOFFSETFROM:+0100
TZOFFSETTO:+0200
END:DAYLIGHT
END:VTIMEZONE
END:VCALENDAR
