BEGIN:VCALENDAR
VERSION:2.0
PRODID:-//Plone.org//NONSGML plone.app.event//EN
X-WR-TIMEZONE:Europe/Rome
BEGIN:VEVENT
SUMMARY:16 maggio - Corso Cybersecurity dalla consapevolezza all'approccio
  specialistico: 2° lezione
DTSTART;TZID=Europe/Rome;VALUE=DATE-TIME:20240516T090000
DTEND;TZID=Europe/Rome;VALUE=DATE-TIME:20240516T110000
DTSTAMP;VALUE=DATE-TIME:20260421T201937Z
UID:39180f75dbbc400eaec06e1e3b788090@www.ge.camcom.gov.it
ATTENDEE;CN="Avv. Eduardo Surace";ROLE=REQ-PARTICIPANT:Avv. Eduardo Surace
CATEGORIES:Eventi calendario HP,Eventi pid,Eventi HP,Notizie PID,Eventi - 
 innova
CONTACT:Punto Impresa Digitale\, https://docs.google.com/forms/d/e/1FAIpQL
 SfsOjqH-eA4Ix-xKD55gOl6El6WFsKXArj17Avveyd22bzHVQ/viewform
CREATED;VALUE=DATE-TIME:20210118T105859Z
DESCRIPTION:16 maggio 2024 la 2° lezione in presenza del "Corso Cybersecu
 rity dalla consapevolezza all'approccio specialistico"\nNormativa in mater
 ia cyber a cura di Avv. Eduardo Surace
LAST-MODIFIED;VALUE=DATE-TIME:20240515T092815Z
LOCATION:Online
URL:https://www.ge.camcom.gov.it/it/elementi-homepage/events/16-maggio-cor
 so-cybersecurity-dalla-consapevolezza-allapproccio-specialistico-2-lezione
END:VEVENT
BEGIN:VTIMEZONE
TZID:Europe/Rome
X-LIC-LOCATION:Europe/Rome
BEGIN:DAYLIGHT
DTSTART;VALUE=DATE-TIME:20240331T030000
TZNAME:CEST
TZOFFSETFROM:+0100
TZOFFSETTO:+0200
END:DAYLIGHT
END:VTIMEZONE
END:VCALENDAR
