BEGIN:VCALENDAR
VERSION:2.0
PRODID:-//Plone.org//NONSGML plone.app.event//EN
X-WR-TIMEZONE:Europe/Rome
BEGIN:VEVENT
SUMMARY:17\, 18 e 19 ottobre Rolli Days – Genova e l’Ottocento a Palaz
 zo Tobia Pallavicino e Sala delle Grida
DTSTART;TZID=Europe/Rome;VALUE=DATE-TIME:20251017T100000
DTEND;TZID=Europe/Rome;VALUE=DATE-TIME:20251019T204500
DTSTAMP;VALUE=DATE-TIME:20260420T035324Z
UID:1807e07b0ea640c7b920d7afdc04ac90@www.ge.camcom.gov.it
CATEGORIES:Eventi,Eventi HP
CREATED;VALUE=DATE-TIME:20251002T103346Z
DESCRIPTION:"L’arte attraverso il cambiamento"
LAST-MODIFIED;VALUE=DATE-TIME:20251006T124555Z
LOCATION:Genova - Palazzo Tobia Pallavicino- Sala delle Grida
URL:https://www.ge.camcom.gov.it/it/elementi-homepage/events/17-18-e-19-ot
 tobre-rolli-days-2013-genova-e-l2019ottocento
END:VEVENT
BEGIN:VTIMEZONE
TZID:Europe/Rome
X-LIC-LOCATION:Europe/Rome
BEGIN:DAYLIGHT
DTSTART;VALUE=DATE-TIME:20250330T030000
TZNAME:CEST
TZOFFSETFROM:+0100
TZOFFSETTO:+0200
END:DAYLIGHT
END:VTIMEZONE
END:VCALENDAR
