BEGIN:VCALENDAR
VERSION:2.0
PRODID:-//Plone.org//NONSGML plone.app.event//EN
X-WR-TIMEZONE:Europe/Rome
BEGIN:VEVENT
SUMMARY:17 aprile Lo Sportello di Sostegno alla Competitività delle Impre
 se: Bilancio e Prospettive per le Micro e Piccole Imprese
DTSTART;TZID=Europe/Rome;VALUE=DATE-TIME:20250417T094500
DTSTAMP;VALUE=DATE-TIME:20260421T183349Z
UID:165b305c77904083ac363904d7475b70@www.ge.camcom.gov.it
CATEGORIES:Eventi,Eventi HP
CREATED;VALUE=DATE-TIME:20250404T143427Z
DESCRIPTION:17 aprile alla Camera di Commercio di Genova\, il convegno dal
  titolo "Lo Sportello di Sostegno alla Competitività delle Imprese al fia
 nco delle micro e piccole imprese in fase di avviamento: bilancio e prospe
 ttive"\, organizzato in collaborazione con Fondazione Carige.
LAST-MODIFIED;VALUE=DATE-TIME:20250404T143752Z
LOCATION:Genova - Palazzo Tobia Pallavicino
URL:https://www.ge.camcom.gov.it/it/elementi-homepage/events/17-aprile-lo-
 sportello-di-sostegno-alla-competitivita-delle-imprese-bilancio-e-prospett
 ive-per-le-micro-e-piccole-imprese
END:VEVENT
BEGIN:VTIMEZONE
TZID:Europe/Rome
X-LIC-LOCATION:Europe/Rome
BEGIN:DAYLIGHT
DTSTART;VALUE=DATE-TIME:20250330T030000
TZNAME:CEST
TZOFFSETFROM:+0100
TZOFFSETTO:+0200
END:DAYLIGHT
END:VTIMEZONE
END:VCALENDAR
