BEGIN:VCALENDAR
VERSION:2.0
PRODID:-//Plone.org//NONSGML plone.app.event//EN
X-WR-TIMEZONE:Europe/Rome
BEGIN:VEVENT
SUMMARY:17 marzo Progetto CE PRINCE - Workshop congiunto per PA e Imprese 
 su appalti verdi e circolarità
DTSTART;TZID=Europe/Rome;VALUE=DATE-TIME:20260317T100000
DTEND;TZID=Europe/Rome;VALUE=DATE-TIME:20260317T130000
DTSTAMP;VALUE=DATE-TIME:20260423T191248Z
UID:a717a783f2a04c0581ff82c2707903a1@www.ge.camcom.gov.it
CATEGORIES:Eventi,Eventi HP
CREATED;VALUE=DATE-TIME:20260313T093137Z
LAST-MODIFIED;VALUE=DATE-TIME:20260313T100008Z
LOCATION:Workshop online
URL:https://www.ge.camcom.gov.it/it/elementi-homepage/events/17-marzo-prog
 etto-ce-prince-workshop-congiunto-per-pa-e-imprese-su-appalti-verdi-e-circ
 olarita
END:VEVENT
BEGIN:VTIMEZONE
TZID:Europe/Rome
X-LIC-LOCATION:Europe/Rome
BEGIN:STANDARD
DTSTART;VALUE=DATE-TIME:20251026T020000
TZNAME:CET
TZOFFSETFROM:+0200
TZOFFSETTO:+0100
END:STANDARD
END:VTIMEZONE
END:VCALENDAR
