BEGIN:VCALENDAR
VERSION:2.0
PRODID:-//Plone.org//NONSGML plone.app.event//EN
X-WR-TIMEZONE:Europe/Rome
BEGIN:VEVENT
SUMMARY:19 marzo 2026 - Intelligence e sovranità digitale nel XXI secolo
DTSTART;TZID=Europe/Rome;VALUE=DATE-TIME:20260319T173000
DTEND;TZID=Europe/Rome;VALUE=DATE-TIME:20260319T193000
DTSTAMP;VALUE=DATE-TIME:20260420T181528Z
UID:0a5ab96392724e019d4e4b3bc75fbd68@www.ge.camcom.gov.it
ATTENDEE;CN="Mario Caligiuri - Autore volume “Intelligence”";ROLE=REQ-
 PARTICIPANT:Mario Caligiuri - Autore volume “Intelligence”
CATEGORIES:Eventi,Eventi - innova,Eventi HP
CREATED;VALUE=DATE-TIME:20260310T082808Z
DESCRIPTION:Presentazione del volume "Intelligence" di Mario Caligiuri \nA
 nalisi dell'evoluzione della gestione delle informazioni e la tutela degli
  asset digitali nazionali
LAST-MODIFIED;VALUE=DATE-TIME:20260320T095353Z
LOCATION:Camera di Commercio di Genova  via Garibaldi 4\, Genova - Salone 
 del Consiglio
URL:https://www.ge.camcom.gov.it/it/elementi-homepage/events/19-marzo-2026
 -intelligence-e-sovranita-digitale-nel-xxi-secolo
END:VEVENT
BEGIN:VTIMEZONE
TZID:Europe/Rome
X-LIC-LOCATION:Europe/Rome
BEGIN:STANDARD
DTSTART;VALUE=DATE-TIME:20251026T020000
TZNAME:CET
TZOFFSETFROM:+0200
TZOFFSETTO:+0100
END:STANDARD
END:VTIMEZONE
END:VCALENDAR
