BEGIN:VCALENDAR
VERSION:2.0
PRODID:-//Plone.org//NONSGML plone.app.event//EN
X-WR-TIMEZONE:Europe/Rome
BEGIN:VEVENT
SUMMARY:Dal 23 ottobre al 20 novembre Contra spem spero. Storie dall'Ucrai
 na
DTSTART;TZID=Europe/Rome;VALUE=DATE-TIME:20231023T080000
DTEND;TZID=Europe/Rome;VALUE=DATE-TIME:20231120T170000
DTSTAMP;VALUE=DATE-TIME:20260423T115850Z
UID:2521368b9d014a6083cd43da41273c2a@www.ge.camcom.gov.it
CATEGORIES:Eventi,Eventi HP
CREATED;VALUE=DATE-TIME:20231018T092322Z
DESCRIPTION:Undici fotografi ucraini raccontano l'orrore della guerra attr
 averso i loro progetti documentaristici e artistici.
LAST-MODIFIED;VALUE=DATE-TIME:20231025T150909Z
LOCATION:Genova - Palazzo Tobia Pallavicino
URL:https://www.ge.camcom.gov.it/it/elementi-homepage/events/23-ottobre-co
 ntra-spem-spera-storie-dallucraina
END:VEVENT
BEGIN:VTIMEZONE
TZID:Europe/Rome
X-LIC-LOCATION:Europe/Rome
BEGIN:DAYLIGHT
DTSTART;VALUE=DATE-TIME:20230326T030000
TZNAME:CEST
TZOFFSETFROM:+0100
TZOFFSETTO:+0200
END:DAYLIGHT
BEGIN:STANDARD
DTSTART;VALUE=DATE-TIME:20231029T020000
TZNAME:CET
TZOFFSETFROM:+0200
TZOFFSETTO:+0100
END:STANDARD
END:VTIMEZONE
END:VCALENDAR
