BEGIN:VCALENDAR
VERSION:2.0
PRODID:-//Plone.org//NONSGML plone.app.event//EN
X-WR-TIMEZONE:Europe/Rome
BEGIN:VEVENT
SUMMARY:26 giugno 2025 - Corso Cybersecurity dalla consapevolezza all'appr
 occio specialistico: 10° lezione
DTSTART;TZID=Europe/Rome;VALUE=DATE-TIME:20250626T090000
DTEND;TZID=Europe/Rome;VALUE=DATE-TIME:20250626T110000
DTSTAMP;VALUE=DATE-TIME:20260420T041407Z
UID:efc4769b0f4c4bfea9f7c6ee4fae0899@www.ge.camcom.gov.it
ATTENDEE;CN="Ing. Ermete Meda";ROLE=REQ-PARTICIPANT:Ing. Ermete Meda
CATEGORIES:Eventi calendario HP,Eventi pid,Eventi HP,Notizie PID,Eventi - 
 innova
CONTACT:Punto Impresa Digitale
CREATED;VALUE=DATE-TIME:20210118T105859Z
DESCRIPTION:26 giugno 2025: 10° lezione del "Corso Cybersecurity dalla co
 nsapevolezza all'approccio specialistico"\nCompliance (II parte) a cura In
 g. Ermete Meda - Online
LAST-MODIFIED;VALUE=DATE-TIME:20250610T083059Z
LOCATION:Online
URL:https://www.ge.camcom.gov.it/it/elementi-homepage/events/26-giugno-202
 5-corso-cybersecurity-dalla-consapevolezza-allapproccio-specialistico-10-l
 ezione
END:VEVENT
BEGIN:VTIMEZONE
TZID:Europe/Rome
X-LIC-LOCATION:Europe/Rome
BEGIN:DAYLIGHT
DTSTART;VALUE=DATE-TIME:20250330T030000
TZNAME:CEST
TZOFFSETFROM:+0100
TZOFFSETTO:+0200
END:DAYLIGHT
END:VTIMEZONE
END:VCALENDAR
