BEGIN:VCALENDAR
VERSION:2.0
PRODID:-//Plone.org//NONSGML plone.app.event//EN
X-WR-TIMEZONE:Europe/Rome
BEGIN:VEVENT
SUMMARY:26 Maggio alle 12: Come comunicare le scelte sostenibili con Commo
 n Place - 4° appuntamento #StoriediPID incontra Eccellenze in Digitale
DTSTART;TZID=Europe/Rome;VALUE=DATE-TIME:20230519T120000
DTSTAMP;VALUE=DATE-TIME:20260422T004812Z
UID:368818c762f14b6299858e2d3073f7f7@www.ge.camcom.gov.it
ATTENDEE;CN="Allegra Fregosi Titolare Common Place";ROLE=REQ-PARTICIPANT:A
 llegra Fregosi Titolare Common Place
CATEGORIES:Eventi,Eventi - innova,Eventi pid,Eventi HP,Notizie slider HP,E
 venti Digital Marketing 2023,#StoriediPID incontra Eccellenze in Digitale 
 2023
CONTACT:Punto Impresa Digitale\, https://bit.ly/3KkgG2G
CREATED;VALUE=DATE-TIME:20230317T141508Z
DESCRIPTION:Quarto appuntamento di #StoriediPID incontra Eccellenze in Dig
 itale il 26 Maggio dalle 12\nCome comunicare le scelte sostenibili con Com
 mon Place
LAST-MODIFIED;VALUE=DATE-TIME:20230524T123129Z
LOCATION:Online
URL:https://www.ge.camcom.gov.it/it/elementi-homepage/events/26-maggio-all
 e-12-come-comunicare-le-scelte-sostenibili-con-common-place-4-appuntamento
 -storiedipid-incontra-eccellenze-in-digitale
END:VEVENT
BEGIN:VTIMEZONE
TZID:Europe/Rome
X-LIC-LOCATION:Europe/Rome
BEGIN:DAYLIGHT
DTSTART;VALUE=DATE-TIME:20230326T030000
TZNAME:CEST
TZOFFSETFROM:+0100
TZOFFSETTO:+0200
END:DAYLIGHT
END:VTIMEZONE
END:VCALENDAR
