BEGIN:VCALENDAR
VERSION:2.0
PRODID:-//Plone.org//NONSGML plone.app.event//EN
X-WR-TIMEZONE:Europe/Rome
BEGIN:VEVENT
SUMMARY:29 aprile - Match Camp AI Edition
DTSTART;TZID=Europe/Rome;VALUE=DATE-TIME:20260429T143000
DTEND;TZID=Europe/Rome;VALUE=DATE-TIME:20260429T193000
DTSTAMP;VALUE=DATE-TIME:20260424T155701Z
UID:e51d9193b8f94231ab230160368bd272@www.ge.camcom.gov.it
CATEGORIES:Eventi,Eventi HP
CREATED;VALUE=DATE-TIME:20260424T110225Z
LAST-MODIFIED;VALUE=DATE-TIME:20260424T110305Z
LOCATION:Genova\, Palazzo della Borsa
URL:https://www.ge.camcom.gov.it/it/elementi-homepage/events/29-aprile-mat
 ch-camp-ai-edition
END:VEVENT
BEGIN:VTIMEZONE
TZID:Europe/Rome
X-LIC-LOCATION:Europe/Rome
BEGIN:DAYLIGHT
DTSTART;VALUE=DATE-TIME:20260329T030000
TZNAME:CEST
TZOFFSETFROM:+0100
TZOFFSETTO:+0200
END:DAYLIGHT
END:VTIMEZONE
END:VCALENDAR
