BEGIN:VCALENDAR
VERSION:2.0
PRODID:-//Plone.org//NONSGML plone.app.event//EN
X-WR-TIMEZONE:Europe/Rome
BEGIN:VEVENT
SUMMARY:3 giugno 2025 - Corso Cybersecurity dalla consapevolezza all'appro
 ccio specialistico: 3° lezione
DTSTART;TZID=Europe/Rome;VALUE=DATE-TIME:20250603T090000
DTEND;TZID=Europe/Rome;VALUE=DATE-TIME:20250603T110000
DTSTAMP;VALUE=DATE-TIME:20260423T061539Z
UID:4acaf01fce8d4e7c93f1338752ad6a7c@www.ge.camcom.gov.it
ATTENDEE;CN="Ing. Ermete Meda";ROLE=REQ-PARTICIPANT:Ing. Ermete Meda
CATEGORIES:Eventi calendario HP,Eventi pid,Eventi HP,Notizie PID,Eventi - 
 innova
CONTACT:Punto Impresa Digitale
CREATED;VALUE=DATE-TIME:20210118T105859Z
DESCRIPTION:3 giugno 2025 la 3° lezione del "Corso Cybersecurity dalla co
 nsapevolezza all'approccio specialistico"\nSignificato e Modalità del “
 Fare Sicurezza” a cura di Ing. Ermete Meda
LAST-MODIFIED;VALUE=DATE-TIME:20250610T083630Z
LOCATION:Online
URL:https://www.ge.camcom.gov.it/it/elementi-homepage/events/3-giugno-2025
 -corso-cybersecurity-dalla-consapevolezza-allapproccio-specialistico-3-lez
 ione
END:VEVENT
BEGIN:VTIMEZONE
TZID:Europe/Rome
X-LIC-LOCATION:Europe/Rome
BEGIN:DAYLIGHT
DTSTART;VALUE=DATE-TIME:20250330T030000
TZNAME:CEST
TZOFFSETFROM:+0100
TZOFFSETTO:+0200
END:DAYLIGHT
END:VTIMEZONE
END:VCALENDAR
