BEGIN:VCALENDAR
VERSION:2.0
PRODID:-//Plone.org//NONSGML plone.app.event//EN
X-WR-TIMEZONE:Europe/Rome
BEGIN:VEVENT
SUMMARY:3 marzo Road Map 2026. Presentazione delle nuove misure per la cre
 scita di enti e imprese
DTSTART;TZID=Europe/Rome;VALUE=DATE-TIME:20260303T150000
DTEND;TZID=Europe/Rome;VALUE=DATE-TIME:20260303T180000
DTSTAMP;VALUE=DATE-TIME:20260423T174406Z
UID:308a42e81c31493c95401f52ef4aa70a@www.ge.camcom.gov.it
CATEGORIES:Eventi,Eventi HP,Tile notizie ed eventi PR FESR
CREATED;VALUE=DATE-TIME:20250127T094144Z
LAST-MODIFIED;VALUE=DATE-TIME:20260220T112526Z
LOCATION:Genova\, Palazzo della Borsa
URL:https://www.ge.camcom.gov.it/it/elementi-homepage/events/3-marzo-road-
 map-2026
END:VEVENT
BEGIN:VTIMEZONE
TZID:Europe/Rome
X-LIC-LOCATION:Europe/Rome
BEGIN:STANDARD
DTSTART;VALUE=DATE-TIME:20251026T020000
TZNAME:CET
TZOFFSETFROM:+0200
TZOFFSETTO:+0100
END:STANDARD
END:VTIMEZONE
END:VCALENDAR
