BEGIN:VCALENDAR
VERSION:2.0
PRODID:-//Plone.org//NONSGML plone.app.event//EN
X-WR-TIMEZONE:Europe/Rome
BEGIN:VEVENT
SUMMARY:30 settembre 2025 - Presentazione Corso ESG per le PMI: istruzioni
  per l'uso
DTSTART;TZID=Europe/Rome;VALUE=DATE-TIME:20250930T110000
DTEND;TZID=Europe/Rome;VALUE=DATE-TIME:20250930T113000
DTSTAMP;VALUE=DATE-TIME:20260420T025930Z
UID:713c621e69174a6786fc166be617f56e@www.ge.camcom.gov.it
CATEGORIES:Eventi - innova,Eventi calendario HP,Eventi pid,Eventi HP
CONTACT:Punto Impresa Digitale\, https://conference-web-it.zoom.us/meeting
 /register/HhPiKMOgQBqTJgbRf-Iivg
CREATED;VALUE=DATE-TIME:20241120T103249Z
DESCRIPTION:Presentazione della nuova edizione del corso "ESG per le PMI: 
 istruzioni per l'uso" insieme a Ire Liguria
LAST-MODIFIED;VALUE=DATE-TIME:20250923T162507Z
LOCATION:Online
URL:https://www.ge.camcom.gov.it/it/elementi-homepage/events/30-settembre-
 2025-presentazione-corso-esg-per-le-pmi-istruzioni-per-luso
END:VEVENT
BEGIN:VTIMEZONE
TZID:Europe/Rome
X-LIC-LOCATION:Europe/Rome
BEGIN:DAYLIGHT
DTSTART;VALUE=DATE-TIME:20250330T030000
TZNAME:CEST
TZOFFSETFROM:+0100
TZOFFSETTO:+0200
END:DAYLIGHT
END:VTIMEZONE
END:VCALENDAR
