BEGIN:VCALENDAR
VERSION:2.0
PRODID:-//Plone.org//NONSGML plone.app.event//EN
X-WR-TIMEZONE:Europe/Rome
BEGIN:VEVENT
SUMMARY:4 luglio “Road Map Bandi 2025 – Misure per la crescita di enti
  e imprese”
DTSTART;TZID=Europe/Rome;VALUE=DATE-TIME:20250704T093000
DTEND;TZID=Europe/Rome;VALUE=DATE-TIME:20250704T130000
DTSTAMP;VALUE=DATE-TIME:20260419T211954Z
UID:3cfb864ce16c41a6a2d0d70a337c0d12@www.ge.camcom.gov.it
CATEGORIES:Eventi,Eventi HP
CREATED;VALUE=DATE-TIME:20250703T104324Z
DESCRIPTION:Presentazione del secondo semestre della programmazione dei ba
 ndi FESR 2021–2027
LAST-MODIFIED;VALUE=DATE-TIME:20250703T133424Z
LOCATION:Genova\, Palazzo della Borsa
URL:https://www.ge.camcom.gov.it/it/elementi-homepage/events/4-luglio-regi
 one-liguria-presenta-il-secondo-semestre-della-201croad-map-bandi-2025-201
 3-misure-per-la-crescita-di-enti-e-imprese201d
END:VEVENT
BEGIN:VTIMEZONE
TZID:Europe/Rome
X-LIC-LOCATION:Europe/Rome
BEGIN:DAYLIGHT
DTSTART;VALUE=DATE-TIME:20250330T030000
TZNAME:CEST
TZOFFSETFROM:+0100
TZOFFSETTO:+0200
END:DAYLIGHT
END:VTIMEZONE
END:VCALENDAR
