BEGIN:VCALENDAR
VERSION:2.0
PRODID:-//Plone.org//NONSGML plone.app.event//EN
X-WR-TIMEZONE:Europe/Rome
BEGIN:VEVENT
SUMMARY:5 dicembre Consegna attestati alle imprese storiche del 2023-2025
DTSTART;TZID=Europe/Rome;VALUE=DATE-TIME:20251205T170000
DTSTAMP;VALUE=DATE-TIME:20260421T005536Z
UID:09f8ceeb887043379330bbfebbab8e92@www.ge.camcom.gov.it
CATEGORIES:Eventi,Eventi HP
CREATED;VALUE=DATE-TIME:20251119T115705Z
DESCRIPTION:Il Registro Nazionale delle Imprese Storiche è stato istituit
 o nel 2011 da Unioncamere in collaborazione con le Camere di Commercio e c
 on il coordinamento scientifico del Centro per la cultura d’impresa. Lo 
 scopo del Registro è premiare le imprese storiche che hanno saputo trasme
 ttere alle generazioni successive il loro inestimabile patrimonio di compe
 tenze e conoscenze\, nonché i valori fondanti del “fare impresa”. Le 
 imprese iscritte nel Registro Nazionale delle Imprese Storiche\, hanno ric
 evuto dalle Camere di Commercio l’attestato di iscrizione e si possono i
 nsignire dello speciale marchio Impresa storica d’Italia. Ad oggi sono o
 ltre 2.600 le imprese italiane che possono fregiarsi di un’attività sec
 olare\, documentate nel Registro.
LAST-MODIFIED;VALUE=DATE-TIME:20251119T115734Z
LOCATION:Genova\, Palazzo della Borsa
URL:https://www.ge.camcom.gov.it/it/elementi-homepage/events/5-dicembre-co
 nsegna-attestati-alle-imprese-storiche-del-2023-2025
END:VEVENT
BEGIN:VTIMEZONE
TZID:Europe/Rome
X-LIC-LOCATION:Europe/Rome
BEGIN:STANDARD
DTSTART;VALUE=DATE-TIME:20251026T020000
TZNAME:CET
TZOFFSETFROM:+0200
TZOFFSETTO:+0100
END:STANDARD
END:VTIMEZONE
END:VCALENDAR
