BEGIN:VCALENDAR
VERSION:2.0
PRODID:-//Plone.org//NONSGML plone.app.event//EN
X-WR-TIMEZONE:Europe/Rome
BEGIN:VEVENT
SUMMARY:7 aprile Impianti a biometano - Opportunità di investimento in Po
 lonia
DTSTART;TZID=Europe/Rome;VALUE=DATE-TIME:20250407T113000
DTSTAMP;VALUE=DATE-TIME:20260423T195748Z
UID:91891d9e3e6441bdaa9ca343a1a677fa@www.ge.camcom.gov.it
CATEGORIES:Eventi,Eventi HP
CREATED;VALUE=DATE-TIME:20250328T080435Z
DESCRIPTION:Lunedì 7 aprile 2025\, presso la Camera di Commercio di Genov
 a\, si terrà un'importante conferenza focalizzata sulle opportunità di i
 nvestimento e collaborazione tra l'Italia e la Polonia. L'evento offrirà 
 uno spazio per approfondire temi cruciali come gli appalti pubblici nel se
 ttore del biometano e la gestione dei rifiuti organici\, con la partecipaz
 ione di figure istituzionali e professionisti di alto livello.
LAST-MODIFIED;VALUE=DATE-TIME:20250404T134818Z
LOCATION:Genova - Palazzo Tobia Pallavicino
URL:https://www.ge.camcom.gov.it/it/elementi-homepage/events/7-aprile-impi
 anti-a-biometano-opportunita-di-investimento-in-polonia
END:VEVENT
BEGIN:VTIMEZONE
TZID:Europe/Rome
X-LIC-LOCATION:Europe/Rome
BEGIN:DAYLIGHT
DTSTART;VALUE=DATE-TIME:20250330T030000
TZNAME:CEST
TZOFFSETFROM:+0100
TZOFFSETTO:+0200
END:DAYLIGHT
END:VTIMEZONE
END:VCALENDAR
