BEGIN:VCALENDAR
VERSION:2.0
PRODID:-//Plone.org//NONSGML plone.app.event//EN
X-WR-TIMEZONE:Europe/Rome
BEGIN:VEVENT
SUMMARY:7 Luglio dalle 9 alle 16.30 "Comunità energetiche: un’opportuni
 tà per lo sviluppo di un nuovo modello di gestione del patrimonio pubblic
 o"
DTSTART;TZID=Europe/Rome;VALUE=DATE-TIME:20230707T090000
DTEND;TZID=Europe/Rome;VALUE=DATE-TIME:20230707T163000
DTSTAMP;VALUE=DATE-TIME:20260420T181818Z
UID:68d29e800f9e46f5af3a599b4e277ad7@www.ge.camcom.gov.it
CATEGORIES:Eventi,Eventi - innova,Eventi pid,Eventi HP,Notizie slider HP,E
 venti Digital Marketing 2023
CONTACT:Rete Nazionale delle Agenzie Energetiche Locali
CREATED;VALUE=DATE-TIME:20230317T141508Z
DESCRIPTION:Il 7 luglio dalle 9 alle 16.30 presso il palazzo della Borsa V
 alori si terrà il convegno organizzato dalla Rete Nazionale delle Agenzie
  Energetiche Locali
LAST-MODIFIED;VALUE=DATE-TIME:20230705T103816Z
LOCATION:Palazzo della Borsa Valori
URL:https://www.ge.camcom.gov.it/it/elementi-homepage/events/7-luglio-dall
 e-9-comunita-energetiche-opportunita-per-lo-sviluppo-di-un-nuovo-modello-d
 i-gestione-del-patrimonio-pubblico
END:VEVENT
BEGIN:VTIMEZONE
TZID:Europe/Rome
X-LIC-LOCATION:Europe/Rome
BEGIN:DAYLIGHT
DTSTART;VALUE=DATE-TIME:20230326T030000
TZNAME:CEST
TZOFFSETFROM:+0100
TZOFFSETTO:+0200
END:DAYLIGHT
END:VTIMEZONE
END:VCALENDAR
