BEGIN:VCALENDAR
VERSION:2.0
PRODID:-//Plone.org//NONSGML plone.app.event//EN
X-WR-TIMEZONE:Europe/Rome
BEGIN:VEVENT
SUMMARY:10 maggio 2022 - Webinar su DIRE\, ambiente unico di compilazione 
 pratiche: Campagna Bilanci 2022
DTSTART;TZID=Europe/Rome;VALUE=DATE-TIME:20220510T150000
DTEND;TZID=Europe/Rome;VALUE=DATE-TIME:20220510T170000
DTSTAMP;VALUE=DATE-TIME:20260422T093728Z
UID:63541ee3ab8343fd80f7eb0abcdcbb8b@www.ge.camcom.gov.it
CATEGORIES:Eventi,Eventi HP,Eventi - gestisci,Eventi RI
CONTACT:https://conference-web-it.zoom.us/webinar/register/WN__jSZDbI2QiCu
 Dygvnk1Olg
CREATED;VALUE=DATE-TIME:20220225T151205Z
DESCRIPTION:Continua il percorso che porterà DIRE a diventare l'ambiente 
 unico di compilazione di tutte le pratiche verso il Registro Imprese\, per
  ogni tipologia di utente. \nNuovi adempimenti sono disponibili ogni mese\
 , con la conseguente dismissione degli stessi in Comunica Starweb e Comuni
 ca Fedra. \nIn vista del termine per il deposito dei bilanci delle societ
 à\, il prossimo incontro sarà dedicato alla compilazione delle pratiche 
 di bilancio\, sia nella modalità di compilazione guidata "ad adempimenti"
  sia in quella "a modelli"
LAST-MODIFIED;VALUE=DATE-TIME:20220517T101358Z
LOCATION:Webinar
URL:https://www.ge.camcom.gov.it/it/elementi-homepage/events/archivio-even
 ti/10-maggio-2022-webinar-su-dire-ambiente-unico-di-compilazione-pratiche-
 campagna-bilanci-2022
END:VEVENT
BEGIN:VTIMEZONE
TZID:Europe/Rome
X-LIC-LOCATION:Europe/Rome
BEGIN:DAYLIGHT
DTSTART;VALUE=DATE-TIME:20220327T030000
TZNAME:CEST
TZOFFSETFROM:+0100
TZOFFSETTO:+0200
END:DAYLIGHT
END:VTIMEZONE
END:VCALENDAR
