BEGIN:VCALENDAR
VERSION:2.0
PRODID:-//Plone.org//NONSGML plone.app.event//EN
X-WR-TIMEZONE:Europe/Rome
BEGIN:VEVENT
SUMMARY:11 febbraio - Corso Cybersecurity dalla consapevolezza all' approc
 cio specialistico: 10° lezione
DTSTART;TZID=Europe/Rome;VALUE=DATE-TIME:20220211T083000
DTEND;TZID=Europe/Rome;VALUE=DATE-TIME:20220211T103000
DTSTAMP;VALUE=DATE-TIME:20260420T105715Z
UID:d13296843e7c4cd288b0c77c61e82c0f@www.ge.camcom.gov.it
ATTENDEE;CN="Ing. Ermete Meda ";ROLE=REQ-PARTICIPANT:Ing. Ermete Meda 
ATTENDEE;CN=;ROLE=REQ-PARTICIPANT:
CATEGORIES:Eventi calendario HP,Eventi pid,Eventi HP,Notizie PID,Eventi - 
 innova
CONTACT:Punto Impresa Digitale\, https://www.ge.camcom.gov.it/it/innovazio
 ne/pid-punto-impresa-digitale/corso-cyber-security/cybersecurity-dalla-con
 sapevolezza-all-approccio-specialistico
CREATED;VALUE=DATE-TIME:20210118T105859Z
DESCRIPTION:11 febbraio 2022 la 10° lezione del Corso Cybersecurity dalla
  consapevolezza all' approccio specialistico\nEsempio di analisi del risch
 io e DPIA a cura Ing. Ermete Meda
LAST-MODIFIED;VALUE=DATE-TIME:20220222T103649Z
LOCATION:Online
URL:https://www.ge.camcom.gov.it/it/elementi-homepage/events/archivio-even
 ti/11-febbraio-corso-cybersecurity-dalla-consapevolezza-allapproccio-speci
 alistico-10-lezione
END:VEVENT
BEGIN:VTIMEZONE
TZID:Europe/Rome
X-LIC-LOCATION:Europe/Rome
BEGIN:STANDARD
DTSTART;VALUE=DATE-TIME:20211031T020000
TZNAME:CET
TZOFFSETFROM:+0200
TZOFFSETTO:+0100
END:STANDARD
END:VTIMEZONE
END:VCALENDAR
