BEGIN:VCALENDAR
VERSION:2.0
PRODID:-//Plone.org//NONSGML plone.app.event//EN
X-WR-TIMEZONE:Europe/Rome
BEGIN:VEVENT
SUMMARY:11 marzo - webinar L’importanza di una efficiente gestione finan
 ziaria
DTSTART;TZID=Europe/Rome;VALUE=DATE-TIME:20210311T160000
DTEND;TZID=Europe/Rome;VALUE=DATE-TIME:20210311T182000
DTSTAMP;VALUE=DATE-TIME:20260423T121545Z
UID:e3a2dd0cd17e4178978e8d29f416dc04@www.ge.camcom.gov.it
RRULE:FREQ=WEEKLY;UNTIL=20201126T000000;BYDAY=TH
CATEGORIES:Eventi calendario HP,Eventi HP,Eventi,Eventi - gestisci
CONTACT:https://attendee.gotowebinar.com/register/6914884015694117647
CREATED;VALUE=DATE-TIME:20201027T144643Z
DESCRIPTION:L’importanza di una efficiente gestione finanziaria - 11 mar
 zo ore 16:00
LAST-MODIFIED;VALUE=DATE-TIME:20210316T151651Z
LOCATION:webinar
URL:https://www.ge.camcom.gov.it/it/elementi-homepage/events/archivio-even
 ti/11-marzo-webinar-importanza-di-una-efficiente-gestione-finanziaria
END:VEVENT
BEGIN:VTIMEZONE
TZID:Europe/Rome
X-LIC-LOCATION:Europe/Rome
BEGIN:STANDARD
DTSTART;VALUE=DATE-TIME:20201025T020000
TZNAME:CET
TZOFFSETFROM:+0200
TZOFFSETTO:+0100
END:STANDARD
END:VTIMEZONE
END:VCALENDAR
