BEGIN:VCALENDAR
VERSION:2.0
PRODID:-//Plone.org//NONSGML plone.app.event//EN
X-WR-TIMEZONE:Europe/Rome
BEGIN:VEVENT
SUMMARY:12 maggio 2022 - Il Superbarocco a Palazzo Tobia Pallavicino
DTSTART;TZID=Europe/Rome;VALUE=DATE-TIME:20220512T160000
DTEND;TZID=Europe/Rome;VALUE=DATE-TIME:20220512T180000
DTSTAMP;VALUE=DATE-TIME:20260423T150214Z
UID:c09edc0246ad427d96d05b9f1e175370@www.ge.camcom.gov.it
CATEGORIES:Eventi,Eventi HP,Eventi - promuovi,Eventi turismo
CONTACT:https://palazzoducale.genova.it/mostra/superbarocco/
CREATED;VALUE=DATE-TIME:20220321T164944Z
DESCRIPTION:Appuntamento di un ciclo di conferenze sui disegni preparatori
  dell’affresco di Lorenzo De Ferrari\, attualmente conservati nei Musei 
 di Strada Nuova\, nel quadro della rassegna "I Protagonisti. Capolavori a 
 Genova 1600 - 1750"
LAST-MODIFIED;VALUE=DATE-TIME:20220517T101359Z
LOCATION:Palazzo Tobia Pallavicino\, Genova
URL:https://www.ge.camcom.gov.it/it/elementi-homepage/events/archivio-even
 ti/12-maggio-2022-il-superbarocco-a-palazzo-tobia-pallavicino
END:VEVENT
BEGIN:VTIMEZONE
TZID:Europe/Rome
X-LIC-LOCATION:Europe/Rome
BEGIN:DAYLIGHT
DTSTART;VALUE=DATE-TIME:20220327T030000
TZNAME:CEST
TZOFFSETFROM:+0100
TZOFFSETTO:+0200
END:DAYLIGHT
END:VTIMEZONE
END:VCALENDAR
