BEGIN:VCALENDAR
VERSION:2.0
PRODID:-//Plone.org//NONSGML plone.app.event//EN
X-WR-TIMEZONE:Europe/Rome
BEGIN:VEVENT
SUMMARY:6 luglio - 12° seminario Eccellenze in Digitale 2021
DTSTART;TZID=Europe/Rome;VALUE=DATE-TIME:20210706T090000
DTEND;TZID=Europe/Rome;VALUE=DATE-TIME:20210706T110000
DTSTAMP;VALUE=DATE-TIME:20260419T202311Z
UID:d4d280ad492a4f20b8377c2b192b6124@www.ge.camcom.gov.it
CATEGORIES:Eventi calendario HP,Seminari EiD 2021,Eventi pid,Eventi HP,Not
 izie PID,Eventi - innova
CONTACT:Punto Impresa Digitale
CREATED;VALUE=DATE-TIME:20210118T105859Z
DESCRIPTION:6 luglio 2021 dalle 9 alle 11 su piattaforma Zoom il nono semi
 nario della nuova edizione di Eccellenze in Digitale. Titolo "Costruisci u
 na strategia per YouTube" Docente Serena Pagliosa Digital Promoter del Pun
 to Impresa Digitale Testimonianza di Ayoub Lefhim
LAST-MODIFIED;VALUE=DATE-TIME:20210713T095729Z
LOCATION:Piattaforma Zoom
URL:https://www.ge.camcom.gov.it/it/elementi-homepage/events/archivio-even
 ti/12-seminario-eccellenze-in-digitale-2021
END:VEVENT
BEGIN:VTIMEZONE
TZID:Europe/Rome
X-LIC-LOCATION:Europe/Rome
BEGIN:DAYLIGHT
DTSTART;VALUE=DATE-TIME:20210328T030000
TZNAME:CEST
TZOFFSETFROM:+0100
TZOFFSETTO:+0200
END:DAYLIGHT
END:VTIMEZONE
END:VCALENDAR
