BEGIN:VCALENDAR
VERSION:2.0
PRODID:-//Plone.org//NONSGML plone.app.event//EN
X-WR-TIMEZONE:Europe/Rome
BEGIN:VEVENT
SUMMARY:14 maggio 2021 - Webinar "le vie per lo sviluppo economico del nor
 dovest: infrastrutture digitali"
DTSTART;TZID=Europe/Rome;VALUE=DATE-TIME:20210514T093000
DTEND;TZID=Europe/Rome;VALUE=DATE-TIME:20210514T130000
DTSTAMP;VALUE=DATE-TIME:20260420T132827Z
UID:95523dcdf6724f3bbfeb932bb202d7da@www.ge.camcom.gov.it
CATEGORIES:Notizie slider HP,Eventi,Eventi HP,Eventi - promuovi,Eventi - i
 nnova
CONTACT:https://www.primocanale.it/streaming.php
CREATED;VALUE=DATE-TIME:20210506T143124Z
DESCRIPTION:Secondo webinar dedicato alle “vie” dello sviluppo del Nor
 d Ovest. Dopo il primo appuntamento dello scorso 5 febbraio dedicato alle 
 connessioni fisiche\, questa seconda tappa si concentra sull’analisi del
 lo sviluppo di quelle digitali
LAST-MODIFIED;VALUE=DATE-TIME:20210623T133819Z
LOCATION:Collegamento in streaming da Terrazza Colombo - Genova
URL:https://www.ge.camcom.gov.it/it/elementi-homepage/events/archivio-even
 ti/14-maggio-2021-webinar-le-vie-per-lo-sviluppo-economico-del-nordovest-i
 nfrastrutture-digitali
END:VEVENT
BEGIN:VTIMEZONE
TZID:Europe/Rome
X-LIC-LOCATION:Europe/Rome
BEGIN:DAYLIGHT
DTSTART;VALUE=DATE-TIME:20210328T030000
TZNAME:CEST
TZOFFSETFROM:+0100
TZOFFSETTO:+0200
END:DAYLIGHT
END:VTIMEZONE
END:VCALENDAR
