BEGIN:VCALENDAR
VERSION:2.0
PRODID:-//Plone.org//NONSGML plone.app.event//EN
X-WR-TIMEZONE:Europe/Rome
BEGIN:VEVENT
SUMMARY:16 marzo 2021 - Visita dell'Ambasciatore del Messico a Palazzo Tob
 ia Pallavicino
DTSTART;TZID=Europe/Rome;VALUE=DATE-TIME:20210316T090000
DTEND;TZID=Europe/Rome;VALUE=DATE-TIME:20210316T124500
DTSTAMP;VALUE=DATE-TIME:20260420T035349Z
UID:16814824d93f4d5f9ce9f394c8a723f0@www.ge.camcom.gov.it
CATEGORIES:Eventi,Eventi HP,Eventi - la camera
CREATED;VALUE=DATE-TIME:20210316T153015Z
DESCRIPTION:L'Ambasciatore del Messico Sua Eccellenza Carlos Garcia De Alb
 a Zepeda è stato oggi in visita a Palazzo Tobia Pallavicino\, sede della 
 Camera di Commercio di Genova. In agenda anche porto\, IIT e Promos Italia
LAST-MODIFIED;VALUE=DATE-TIME:20210323T091648Z
LOCATION:Camera di Commercio di Genova - via Garibaldi 4
URL:https://www.ge.camcom.gov.it/it/elementi-homepage/events/archivio-even
 ti/16-marzo-2021-visita-dellambasciatore-del-messico
END:VEVENT
BEGIN:VTIMEZONE
TZID:Europe/Rome
X-LIC-LOCATION:Europe/Rome
BEGIN:STANDARD
DTSTART;VALUE=DATE-TIME:20201025T020000
TZNAME:CET
TZOFFSETFROM:+0200
TZOFFSETTO:+0100
END:STANDARD
END:VTIMEZONE
END:VCALENDAR
