BEGIN:VCALENDAR
VERSION:2.0
PRODID:-//Plone.org//NONSGML plone.app.event//EN
X-WR-TIMEZONE:Europe/Rome
BEGIN:VEVENT
SUMMARY:17 Maggio 2022 - Webinar sulla Crisi d'impresa e dell'insolvenza
DTSTART;TZID=Europe/Rome;VALUE=DATE-TIME:20220517T093000
DTEND;TZID=Europe/Rome;VALUE=DATE-TIME:20220517T113000
DTSTAMP;VALUE=DATE-TIME:20260425T165038Z
UID:53d4c4734e454a699c742a1331a571b4@www.ge.camcom.gov.it
CATEGORIES:Eventi,Eventi HP,Eventi - gestisci
CREATED;VALUE=DATE-TIME:20220516T124912Z
DESCRIPTION:Primo dei tre appuntamenti online che la Camera di Commercio 
 – con il supporto di CLP – organizza per informare le imprese sulla te
 matica della Crisi d'impresa e dell'insolvenza
LAST-MODIFIED;VALUE=DATE-TIME:20220524T133438Z
URL:https://www.ge.camcom.gov.it/it/elementi-homepage/events/archivio-even
 ti/17-maggio-2022-webinar-sulla-crisi-dimpresa-e-dellinsolvenza
END:VEVENT
BEGIN:VTIMEZONE
TZID:Europe/Rome
X-LIC-LOCATION:Europe/Rome
BEGIN:DAYLIGHT
DTSTART;VALUE=DATE-TIME:20220327T030000
TZNAME:CEST
TZOFFSETFROM:+0100
TZOFFSETTO:+0200
END:DAYLIGHT
END:VTIMEZONE
END:VCALENDAR
