BEGIN:VCALENDAR
VERSION:2.0
PRODID:-//Plone.org//NONSGML plone.app.event//EN
X-WR-TIMEZONE:Europe/Rome
BEGIN:VEVENT
SUMMARY:18 ottobre 2021 - Da Fedra a DIRE: come sta cambiando la compilazi
 one delle pratiche Registro Imprese
DTSTART;TZID=Europe/Rome;VALUE=DATE-TIME:20211018T150000
DTEND;TZID=Europe/Rome;VALUE=DATE-TIME:20211018T170000
DTSTAMP;VALUE=DATE-TIME:20260422T013148Z
UID:6631dc94839b47c598b4a9321561a357@www.ge.camcom.gov.it
CATEGORIES:Eventi,Eventi - gestisci,Eventi HP,Eventi RI
CREATED;VALUE=DATE-TIME:20211011T142103Z
DESCRIPTION:Sei al corrente delle evoluzioni del nuovo software DIRE? Sape
 vi che DIRE arriverà a sostituire completamente Fedra? Conosci già le no
 vità sulla modulistica Registro Imprese? Partecipa al workshop dedicato!
LAST-MODIFIED;VALUE=DATE-TIME:20220125T093916Z
URL:https://www.ge.camcom.gov.it/it/elementi-homepage/events/archivio-even
 ti/18-ottobre-2021-da-fedra-a-dire-come-sta-cambiando-la-compilazione-dell
 e-pratiche-registro-imprese
END:VEVENT
BEGIN:VTIMEZONE
TZID:Europe/Rome
X-LIC-LOCATION:Europe/Rome
BEGIN:DAYLIGHT
DTSTART;VALUE=DATE-TIME:20210328T030000
TZNAME:CEST
TZOFFSETFROM:+0100
TZOFFSETTO:+0200
END:DAYLIGHT
END:VTIMEZONE
END:VCALENDAR
