BEGIN:VCALENDAR
VERSION:2.0
PRODID:-//Plone.org//NONSGML plone.app.event//EN
X-WR-TIMEZONE:Europe/Rome
BEGIN:VEVENT
SUMMARY:23 febbraio - 4° seminario Eccellenze in Digitale 2021
DTSTART;TZID=Europe/Rome;VALUE=DATE-TIME:20210223T090000
DTEND;TZID=Europe/Rome;VALUE=DATE-TIME:20210223T110000
DTSTAMP;VALUE=DATE-TIME:20260423T180846Z
UID:254c02d0730a4058aa363b86b843d569@www.ge.camcom.gov.it
CATEGORIES:Eventi calendario HP,Seminari EiD 2021,Eventi pid,Eventi HP,Not
 izie PID,Eventi - innova
CONTACT:Punto Impresa Digitale
CREATED;VALUE=DATE-TIME:20210118T105859Z
DESCRIPTION:23 febbraio 2021 dalle 9 alle 11 su piattaforma Zoom il quarto
  seminario della nuova edizione di Eccellenze in Digitale. Titolo "Social 
 network: dal piano editoriale al copy" Docente Federica Traversa Digital P
 romoter del Punto Impresa Digitale Testimonianza di
LAST-MODIFIED;VALUE=DATE-TIME:20210316T151650Z
LOCATION:Piattaforma Zoom
URL:https://www.ge.camcom.gov.it/it/elementi-homepage/events/archivio-even
 ti/23-febbraio-4-seminario-eccellenze-in-digitale-2021
END:VEVENT
BEGIN:VTIMEZONE
TZID:Europe/Rome
X-LIC-LOCATION:Europe/Rome
BEGIN:STANDARD
DTSTART;VALUE=DATE-TIME:20201025T020000
TZNAME:CET
TZOFFSETFROM:+0200
TZOFFSETTO:+0100
END:STANDARD
END:VTIMEZONE
END:VCALENDAR
