BEGIN:VCALENDAR
VERSION:2.0
PRODID:-//Plone.org//NONSGML plone.app.event//EN
X-WR-TIMEZONE:Europe/Rome
BEGIN:VEVENT
SUMMARY:24 Maggio 2022 - Webinar sulla Crisi d'impresa e dell'insolvenza
DTSTART;TZID=Europe/Rome;VALUE=DATE-TIME:20220524T093000
DTEND;TZID=Europe/Rome;VALUE=DATE-TIME:20220524T113000
DTSTAMP;VALUE=DATE-TIME:20260424T134354Z
UID:e5bfb24191bb4f3ba8eef69cd18fd509@www.ge.camcom.gov.it
CATEGORIES:Eventi,Eventi HP,Eventi - gestisci
CREATED;VALUE=DATE-TIME:20220516T124912Z
DESCRIPTION:Secondo dei tre webinar online (il primo si è svolto il 17 ma
 ggio) che la Camera di Commercio – con il supporto di CLP – organizza 
 per informare le imprese sulla tematica della Crisi d'impresa e dell'insol
 venza
LAST-MODIFIED;VALUE=DATE-TIME:20220613T140127Z
URL:https://www.ge.camcom.gov.it/it/elementi-homepage/events/archivio-even
 ti/24-maggio-2022-webinar-sulla-crisi-dimpresa-e-dellinsolvenza
END:VEVENT
BEGIN:VTIMEZONE
TZID:Europe/Rome
X-LIC-LOCATION:Europe/Rome
BEGIN:DAYLIGHT
DTSTART;VALUE=DATE-TIME:20220327T030000
TZNAME:CEST
TZOFFSETFROM:+0100
TZOFFSETTO:+0200
END:DAYLIGHT
END:VTIMEZONE
END:VCALENDAR
