BEGIN:VCALENDAR
VERSION:2.0
PRODID:-//Plone.org//NONSGML plone.app.event//EN
X-WR-TIMEZONE:Europe/Rome
BEGIN:VEVENT
SUMMARY:30 novembre 2022 - Vivi l’esperienza sostenibile 2022 a Palazzo 
 della Borsa
DTSTART;TZID=Europe/Rome;VALUE=DATE-TIME:20221125T170000
DTEND;TZID=Europe/Rome;VALUE=DATE-TIME:20221201T180000
DTSTAMP;VALUE=DATE-TIME:20260422T154530Z
UID:6fef1fe3b9d449f7b887e7b71b2c9efa@www.ge.camcom.gov.it
CATEGORIES:Eventi,Eventi - promuovi,Eventi HP,Eventi turismo,Eventi calend
 ario HP,Notizie prodotti tipici
CONTACT:Attività Produttive
CREATED;VALUE=DATE-TIME:20221125T160955Z
DESCRIPTION:Convegno dedicato alla Giornata Mondiale dell’Alimentazione 
 2022\, iniziativa promossa dalla FAO\, dedicata alla sostenibilità\, che 
 si terrà mercoledì 30 novembre 2022\, al palazzo della Borsa – Sala de
 lle Grida\, dalle ore 9.00 alle ore 13.30.
LAST-MODIFIED;VALUE=DATE-TIME:20230213T101018Z
LOCATION:Palazzo della Borsa Valori
URL:https://www.ge.camcom.gov.it/it/elementi-homepage/events/archivio-even
 ti/30-novembre-2022-vivi-l2019esperienza-sostenibile-2022-a-palazzo-della-
 bors
END:VEVENT
BEGIN:VTIMEZONE
TZID:Europe/Rome
X-LIC-LOCATION:Europe/Rome
BEGIN:STANDARD
DTSTART;VALUE=DATE-TIME:20221030T020000
TZNAME:CET
TZOFFSETFROM:+0200
TZOFFSETTO:+0100
END:STANDARD
END:VTIMEZONE
END:VCALENDAR
