BEGIN:VCALENDAR
VERSION:2.0
PRODID:-//Plone.org//NONSGML plone.app.event//EN
X-WR-TIMEZONE:Europe/Rome
BEGIN:VEVENT
SUMMARY:5 Novembre 2020 – webinar:  “Blockchain & Logistica: una tutel
 a “tecnologica” per i marchi”
DTSTART;TZID=Europe/Rome;VALUE=DATE-TIME:20201105T100000
DTEND;TZID=Europe/Rome;VALUE=DATE-TIME:20201105T120000
DTSTAMP;VALUE=DATE-TIME:20260421T103909Z
UID:9af9ebf7ffd445faa025aff2f898b0b8@www.ge.camcom.gov.it
CATEGORIES:Eventi calendario HP,Notizie PID,Eventi HP,Eventi - tutela,Even
 ti - innova,Eventi
CONTACT:https://www.marchiedisegni.eu/webinar-5-novembre-2020/
CREATED;VALUE=DATE-TIME:20201027T144643Z
DESCRIPTION:Il webinar darà approfondimenti e aggiornamenti sui vantaggi 
 dell’utilizzo della blockchain in ambito logistico\, in particolare per 
 migliorare velocità\, tracciabilità\, sicurezza\, verifica dei marchi de
 i prodotti\, processi di fatturazione e di pagamento
LAST-MODIFIED;VALUE=DATE-TIME:20201204T145326Z
URL:https://www.ge.camcom.gov.it/it/elementi-homepage/events/archivio-even
 ti/5-novembre-2020-2013-webinar-201cblockchain-logistica-una-tutela-201cte
 cnologica201d-per-i-marchi201d
END:VEVENT
BEGIN:VTIMEZONE
TZID:Europe/Rome
X-LIC-LOCATION:Europe/Rome
BEGIN:STANDARD
DTSTART;VALUE=DATE-TIME:20201025T020000
TZNAME:CET
TZOFFSETFROM:+0200
TZOFFSETTO:+0100
END:STANDARD
END:VTIMEZONE
END:VCALENDAR
