BEGIN:VCALENDAR
VERSION:2.0
PRODID:-//Plone.org//NONSGML plone.app.event//EN
X-WR-TIMEZONE:Europe/Rome
BEGIN:VEVENT
SUMMARY:6 e 7 febbraio - seconda edizione di "Sono tutti cavoli nostri"
DTSTART;TZID=Europe/Rome;VALUE=DATE-TIME:20210206T080000
DTEND;TZID=Europe/Rome;VALUE=DATE-TIME:20210207T235500
DTSTAMP;VALUE=DATE-TIME:20260426T033758Z
UID:e84e93f1a26a431eb650bb3d915e8565@www.ge.camcom.gov.it
CATEGORIES:Notizie prodotti tipici,Eventi HP,Eventi,Eventi - promuovi
CREATED;VALUE=DATE-TIME:20210129T092021Z
DESCRIPTION:L'evento vuole promuovere la città attraverso i suoi prodotti
  di eccellenza
LAST-MODIFIED;VALUE=DATE-TIME:20210316T151651Z
URL:https://www.ge.camcom.gov.it/it/elementi-homepage/events/archivio-even
 ti/6-e-7-febbraio-seconda-edizione-di-sono-tutti-cavoli-nostri
END:VEVENT
BEGIN:VTIMEZONE
TZID:Europe/Rome
X-LIC-LOCATION:Europe/Rome
BEGIN:STANDARD
DTSTART;VALUE=DATE-TIME:20201025T020000
TZNAME:CET
TZOFFSETFROM:+0200
TZOFFSETTO:+0100
END:STANDARD
END:VTIMEZONE
END:VCALENDAR
