BEGIN:VCALENDAR
VERSION:2.0
PRODID:-//Plone.org//NONSGML plone.app.event//EN
X-WR-TIMEZONE:Europe/Rome
BEGIN:VEVENT
SUMMARY:04 maggio - 8° seminario Eccellenze in Digitale 2021
DTSTART;TZID=Europe/Rome;VALUE=DATE-TIME:20210504T090000
DTEND;TZID=Europe/Rome;VALUE=DATE-TIME:20210504T110000
DTSTAMP;VALUE=DATE-TIME:20260420T222830Z
UID:c939087d6ace4eb08adbe486a3ad8f9a@www.ge.camcom.gov.it
CATEGORIES:Eventi calendario HP,Seminari EiD 2021,Eventi pid,Eventi HP,Not
 izie PID,Eventi - innova
CONTACT:Punto Impresa Digitale
CREATED;VALUE=DATE-TIME:20210118T105859Z
DESCRIPTION:04 maggio 2021 dalle 9 alle 11 su piattaforma Zoom il sesto se
 minario della nuova edizione di Eccellenze in Digitale. Titolo "Promuovi i
  tuoi contenuti sul web" Docente Noemi Reina Digital Promoter del Punto Im
 presa Digitale Testimonianza di Licia Calcagno e Filippo Bassi di d-Heart
LAST-MODIFIED;VALUE=DATE-TIME:20210506T140914Z
LOCATION:Piattaforma Zoom
URL:https://www.ge.camcom.gov.it/it/elementi-homepage/events/archivio-even
 ti/8-seminario-eccellenze-in-digitale-2021
END:VEVENT
BEGIN:VTIMEZONE
TZID:Europe/Rome
X-LIC-LOCATION:Europe/Rome
BEGIN:DAYLIGHT
DTSTART;VALUE=DATE-TIME:20210328T030000
TZNAME:CEST
TZOFFSETFROM:+0100
TZOFFSETTO:+0200
END:DAYLIGHT
END:VTIMEZONE
END:VCALENDAR
