BEGIN:VCALENDAR
VERSION:2.0
PRODID:-//Plone.org//NONSGML plone.app.event//EN
X-WR-TIMEZONE:Europe/Rome
BEGIN:VEVENT
SUMMARY:9 novembre 2021 ore 14.30 - Webinar dal titolo "IMPRESAINUNGIORNO:
  le novità della piattaforma SUAP per gli adempimenti amministrativi dell
 e imprese"
DTSTART;TZID=Europe/Rome;VALUE=DATE-TIME:20211109T143000
DTEND;TZID=Europe/Rome;VALUE=DATE-TIME:20211109T163000
DTSTAMP;VALUE=DATE-TIME:20260422T035100Z
UID:c6939ce6f35e4c9d8aea2e79b26b7596@www.ge.camcom.gov.it
CATEGORIES:Eventi,Eventi HP,Eventi - avvia,Eventi - gestisci,Eventi RI
CREATED;VALUE=DATE-TIME:20211029T151242Z
DESCRIPTION:La Camera organizza due Webinar rivolti alle imprese per conos
 cere tutte le novità della piattaforma SUAP per gli adempimenti amministr
 ativi\, uno di mattina\, uno di pomeriggio\, il 9 novembre. I due webinar 
 sono identici
LAST-MODIFIED;VALUE=DATE-TIME:20220125T093916Z
URL:https://www.ge.camcom.gov.it/it/elementi-homepage/events/archivio-even
 ti/9-novembre-2021-ore-14-30-webinar-dal-titolo-impresainungiorno
END:VEVENT
BEGIN:VTIMEZONE
TZID:Europe/Rome
X-LIC-LOCATION:Europe/Rome
BEGIN:STANDARD
DTSTART;VALUE=DATE-TIME:20211031T020000
TZNAME:CET
TZOFFSETFROM:+0200
TZOFFSETTO:+0100
END:STANDARD
END:VTIMEZONE
END:VCALENDAR
