BEGIN:VCALENDAR
VERSION:2.0
PRODID:-//Plone.org//NONSGML plone.app.event//EN
X-WR-TIMEZONE:Europe/Rome
BEGIN:VEVENT
SUMMARY:13-15 maggio 2022 - Rolli Days live & digital
DTSTART;TZID=Europe/Rome;VALUE=DATE-TIME:20220513T150000
DTEND;TZID=Europe/Rome;VALUE=DATE-TIME:20220515T190000
DTSTAMP;VALUE=DATE-TIME:20260421T115759Z
UID:2b9f8efdb22c4cfcaa0b4ef2f480f394@www.ge.camcom.gov.it
CATEGORIES:Eventi calendario HP,Eventi HP,Eventi,Eventi - promuovi,Eventi 
 turismo,Eventi - la camera
CONTACT:https://www.visitgenoa.it/rollidays-online/rolli-days-live/
CREATED;VALUE=DATE-TIME:20201009T064245Z
DESCRIPTION:Nel 2022 Genova celebra una stagione straordinaria\, l’apice
  della sua storia e della sua vita artistica. I Rolli Days ci trasportano 
 in questo viaggio sulle strade del Barocco\, per vedere coi nostri occhi c
 ome vivevano\, dove conservavano dipinti e sculture e come volevano essere
  rappresentate le famiglie dell’aristocrazia genovese\n\n\nDopo il fortu
 nato esperimento primaverile della “Rolli Days Digital Week” realizzat
 o con modalità interamente virtuali\,  l’edizione autunnale  torna anch
 e  “in presenza”\, per dare un ulteriore segnale della volontà di rip
 artire
LAST-MODIFIED;VALUE=DATE-TIME:20220517T101400Z
LOCATION:Genova
URL:https://www.ge.camcom.gov.it/it/elementi-homepage/events/archivio-even
 ti/copy3_of_i-palazzi-dei-rolli-tornano-di-nuovo-reali
END:VEVENT
BEGIN:VTIMEZONE
TZID:Europe/Rome
X-LIC-LOCATION:Europe/Rome
BEGIN:DAYLIGHT
DTSTART;VALUE=DATE-TIME:20220327T030000
TZNAME:CEST
TZOFFSETFROM:+0100
TZOFFSETTO:+0200
END:DAYLIGHT
END:VTIMEZONE
END:VCALENDAR
