BEGIN:VCALENDAR
VERSION:2.0
PRODID:-//Plone.org//NONSGML plone.app.event//EN
X-WR-TIMEZONE:Europe/Rome
BEGIN:VEVENT
SUMMARY:10 marzo 2022 - Webinar su DIRE\, ambiente unico di compilazione p
 ratiche
DTSTART;TZID=Europe/Rome;VALUE=DATE-TIME:20220310T150000
DTEND;TZID=Europe/Rome;VALUE=DATE-TIME:20220310T170000
DTSTAMP;VALUE=DATE-TIME:20260420T131339Z
UID:ee2de80e510c43069c82f34faacfca0f@www.ge.camcom.gov.it
CATEGORIES:Eventi,Eventi HP,Eventi - gestisci,Eventi RI
CREATED;VALUE=DATE-TIME:20220225T151205Z
DESCRIPTION:Continua il percorso che porterà DIRE a diventare l'ambiente 
 unico di compilazione di tutte le pratiche verso il Registro Imprese\, per
  ogni tipologia di utente. Nuovi adempimenti sono disponibili ogni mese\, 
 con la conseguente dismissione degli stessi in Comunica Starweb e Comunica
  Fedra. Oltre alle demo di compilazione di alcuni pratiche\, durante il we
 binar saranno illustrati lo stato di avanzamento dei lavori e i prossimi r
 ilasci
LAST-MODIFIED;VALUE=DATE-TIME:20220323T163907Z
URL:https://www.ge.camcom.gov.it/it/elementi-homepage/events/archivio-even
 ti/dire-ambiente-unico-di-compilazione-pratiche
END:VEVENT
BEGIN:VTIMEZONE
TZID:Europe/Rome
X-LIC-LOCATION:Europe/Rome
BEGIN:STANDARD
DTSTART;VALUE=DATE-TIME:20211031T020000
TZNAME:CET
TZOFFSETFROM:+0200
TZOFFSETTO:+0100
END:STANDARD
END:VTIMEZONE
END:VCALENDAR
