BEGIN:VCALENDAR
VERSION:2.0
PRODID:-//Plone.org//NONSGML plone.app.event//EN
X-WR-TIMEZONE:Europe/Rome
BEGIN:VEVENT
SUMMARY:14 marzo 2023 - Webinar: Identità digitale: quali prospettive con
  l'intelligenza artificiale?
DTSTART;TZID=Europe/Rome;VALUE=DATE-TIME:20230314T103000
DTEND;TZID=Europe/Rome;VALUE=DATE-TIME:20230314T120000
DTSTAMP;VALUE=DATE-TIME:20260423T220135Z
UID:dd732f77fd8f4d65917c2fe9d87f4a8f@www.ge.camcom.gov.it
CATEGORIES:Eventi - innova,Eventi HP,Eventi,Eventi calendario HP,Eventi pi
 d
CONTACT:Punto Impresa Digitale\, https://conference-web-it.zoom.us/webinar
 /register/WN_UNQYK1m-S9qn_OMvD9sZTQ
CREATED;VALUE=DATE-TIME:20230302T120541Z
DESCRIPTION:Scopriamo quale sarà il futuro dell'identità digitale con le
  nuove tecnologie come Intelligenza Artificiale e la Blockchain che permet
 teranno di migliorare il riconoscimento digitale e offriranno una vista su
 i nuovi servizi sempre più smart e customizzati.
LAST-MODIFIED;VALUE=DATE-TIME:20230504T072751Z
LOCATION:Online
URL:https://www.ge.camcom.gov.it/it/elementi-homepage/events/archivio-even
 ti/identita-digitale-quali-prospettive-con-lintelligenza-artificiale
END:VEVENT
BEGIN:VTIMEZONE
TZID:Europe/Rome
X-LIC-LOCATION:Europe/Rome
BEGIN:STANDARD
DTSTART;VALUE=DATE-TIME:20221030T020000
TZNAME:CET
TZOFFSETFROM:+0200
TZOFFSETTO:+0100
END:STANDARD
END:VTIMEZONE
END:VCALENDAR
