BEGIN:VCALENDAR
VERSION:2.0
PRODID:-//Plone.org//NONSGML plone.app.event//EN
X-WR-TIMEZONE:Europe/Rome
BEGIN:VEVENT
SUMMARY:Dal 13 al 15 giugno 35° Convention mondiale delle Camere di comme
 rcio italiane all'estero
DTSTART;TZID=Europe/Rome;VALUE=DATE-TIME:20260613T090000
DTEND;TZID=Europe/Rome;VALUE=DATE-TIME:20260615T180000
DTSTAMP;VALUE=DATE-TIME:20260421T123932Z
UID:c5eeaa15b34b4abaa2fbb0285a6d571d@www.ge.camcom.gov.it
CATEGORIES:Eventi,Eventi HP,Notizie internazionalizzazione - promuovi
CREATED;VALUE=DATE-TIME:20260310T080949Z
LAST-MODIFIED;VALUE=DATE-TIME:20260421T101052Z
LOCATION:Genova\, Palazzo della Borsa
URL:https://www.ge.camcom.gov.it/it/elementi-homepage/events/dal-13-al-15-
 giugno-35-convention-mondiale-delle-camere-di-commercio-italiane-allestero
END:VEVENT
BEGIN:VTIMEZONE
TZID:Europe/Rome
X-LIC-LOCATION:Europe/Rome
BEGIN:DAYLIGHT
DTSTART;VALUE=DATE-TIME:20260329T030000
TZNAME:CEST
TZOFFSETFROM:+0100
TZOFFSETTO:+0200
END:DAYLIGHT
END:VTIMEZONE
END:VCALENDAR
