BEGIN:VCALENDAR
VERSION:2.0
PRODID:-//Plone.org//NONSGML plone.app.event//EN
X-WR-TIMEZONE:Europe/Rome
BEGIN:VEVENT
SUMMARY:Dal 25 al 29 settembre  il Career Day l Palazzo della Borsa
DTSTART;TZID=Europe/Rome;VALUE=DATE-TIME:20230925T093000
DTEND;TZID=Europe/Rome;VALUE=DATE-TIME:20230929T170000
DTSTAMP;VALUE=DATE-TIME:20260420T155942Z
UID:e093826807c040738571eb75a9f0cd26@www.ge.camcom.gov.it
CATEGORIES:Eventi,Eventi HP,Eventi - la camera
CREATED;VALUE=DATE-TIME:20230920T101948Z
DESCRIPTION:La Camera di commercio di Genova ospita anche quest’anno al 
 Palazzo della Borsa\, in Via XX Settembre 44\, il Career Day\,  la più 
 grande occasione gratuita di incontro tra domanda e offerta di lavoro in I
 talia.
LAST-MODIFIED;VALUE=DATE-TIME:20231002T085735Z
LOCATION:Genova\, Palazzo della Borsa
URL:https://www.ge.camcom.gov.it/it/elementi-homepage/events/dal-25-al-29-
 settembre-il-career-day-l-palazzo-della-borsa
END:VEVENT
BEGIN:VTIMEZONE
TZID:Europe/Rome
X-LIC-LOCATION:Europe/Rome
BEGIN:DAYLIGHT
DTSTART;VALUE=DATE-TIME:20230326T030000
TZNAME:CEST
TZOFFSETFROM:+0100
TZOFFSETTO:+0200
END:DAYLIGHT
END:VTIMEZONE
END:VCALENDAR
