BEGIN:VCALENDAR
VERSION:2.0
PRODID:-//Plone.org//NONSGML plone.app.event//EN
X-WR-TIMEZONE:Europe/Rome
BEGIN:VEVENT
SUMMARY:Dal 30 luglio Festival in una notte d’estate XXVII Edizione
DTSTART;TZID=Europe/Rome;VALUE=DATE-TIME:20240730T190000
DTEND;TZID=Europe/Rome;VALUE=DATE-TIME:20240806T075500
DTSTAMP;VALUE=DATE-TIME:20260421T114649Z
UID:fdec59519f1e4d2598aa17a0c76824cb@www.ge.camcom.gov.it
CATEGORIES:Eventi,Eventi - turismo,Eventi HP
CREATED;VALUE=DATE-TIME:20240702T092617Z
DESCRIPTION:Festival in una notte d’estate – percorsi: l’architettur
 a della parola tra città e terra\nPiazza San Matteo Genova e nella nostra
  sede di Piazza De Ferrari\, Loggiato Palazzo Giulio Pallavicino.
LAST-MODIFIED;VALUE=DATE-TIME:20240712T123346Z
LOCATION:Loggiato Palazzo Giulio Pallavicino - Piazza De Ferrari 2
URL:https://www.ge.camcom.gov.it/it/elementi-homepage/events/festival-in-u
 na-notte-d2019estate-xxvii-edizione
END:VEVENT
BEGIN:VTIMEZONE
TZID:Europe/Rome
X-LIC-LOCATION:Europe/Rome
BEGIN:DAYLIGHT
DTSTART;VALUE=DATE-TIME:20240331T030000
TZNAME:CEST
TZOFFSETFROM:+0100
TZOFFSETTO:+0200
END:DAYLIGHT
END:VTIMEZONE
END:VCALENDAR
